BEGIN:VCALENDAR
VERSION:2.0
PRODID:-//Hotel Greive in Haren - ECPv6.15.20//NONSGML v1.0//EN
CALSCALE:GREGORIAN
METHOD:PUBLISH
X-ORIGINAL-URL:https://hotel-greive.de
X-WR-CALDESC:Veranstaltungen für Hotel Greive in Haren
REFRESH-INTERVAL;VALUE=DURATION:PT1H
X-Robots-Tag:noindex
X-PUBLISHED-TTL:PT1H
BEGIN:VTIMEZONE
TZID:Europe/Berlin
BEGIN:DAYLIGHT
TZOFFSETFROM:+0100
TZOFFSETTO:+0200
TZNAME:CEST
DTSTART:20240331T010000
END:DAYLIGHT
BEGIN:STANDARD
TZOFFSETFROM:+0200
TZOFFSETTO:+0100
TZNAME:CET
DTSTART:20241027T010000
END:STANDARD
BEGIN:DAYLIGHT
TZOFFSETFROM:+0100
TZOFFSETTO:+0200
TZNAME:CEST
DTSTART:20250330T010000
END:DAYLIGHT
BEGIN:STANDARD
TZOFFSETFROM:+0200
TZOFFSETTO:+0100
TZNAME:CET
DTSTART:20251026T010000
END:STANDARD
BEGIN:DAYLIGHT
TZOFFSETFROM:+0100
TZOFFSETTO:+0200
TZNAME:CEST
DTSTART:20260329T010000
END:DAYLIGHT
BEGIN:STANDARD
TZOFFSETFROM:+0200
TZOFFSETTO:+0100
TZNAME:CET
DTSTART:20261025T010000
END:STANDARD
BEGIN:DAYLIGHT
TZOFFSETFROM:+0100
TZOFFSETTO:+0200
TZNAME:CEST
DTSTART:20270328T010000
END:DAYLIGHT
BEGIN:STANDARD
TZOFFSETFROM:+0200
TZOFFSETTO:+0100
TZNAME:CET
DTSTART:20271031T010000
END:STANDARD
END:VTIMEZONE
BEGIN:VEVENT
DTSTART;VALUE=DATE:20251118
DTEND;VALUE=DATE:20260315
DTSTAMP:20260422T132745
CREATED:20251208T061600Z
LAST-MODIFIED:20251209T154057Z
UID:8157-1763424000-1773532799@hotel-greive.de
SUMMARY:HAREN FEIERT "It´s Partytime"
DESCRIPTION:Ausgiebig feiern! \nDJ Frank Krummen / Fotobox / Begrüßungsgetränk / Candybar / Foodstationen / Cocktailbar \nReservierung erforderlich / Karten bei uns erhältlich\n1 Freigetränk gegen Vorlage der Eintrittskarte\nEinlass 19:00 Uhr \nVORNAME\, NACHNAME *TelefonE-MAIL *Welche Veranstaltung:Für wie viele Personen?  *DatumIch bestätige\, dass ich die Datenschutzerklärung gelesen habe und stimme zu\, dass meine Daten\, wie in der Datenschutzerklärung aufgeführt\, weiterverarbeitet werden.Ihre NachrichtSendenVielen Dank für Ihre Nachricht!×Es gab ein Problem beim senden Ihrer Nachricht. Bitte versuche Sie es später noch einmal.×
URL:https://hotel-greive.de/event/ladies-night/
LOCATION:Hotel Greive\, Nordstraße 10\, Haren (Ems)\, Niedersachsen\, 49733\, Deutschland
CATEGORIES:Aktuell,Kulinarische Highlights
ORGANIZER;CN="Hotel Greive":MAILTO:info@hotel-greive.de
END:VEVENT
END:VCALENDAR