BEGIN:VCALENDAR
VERSION:2.0
PRODID:-//Hotel Greive in Haren - ECPv6.15.20//NONSGML v1.0//EN
CALSCALE:GREGORIAN
METHOD:PUBLISH
X-WR-CALNAME:Hotel Greive in Haren
X-ORIGINAL-URL:https://hotel-greive.de/en/
X-WR-CALDESC:Events for Hotel Greive in Haren
REFRESH-INTERVAL;VALUE=DURATION:PT1H
X-Robots-Tag:noindex
X-PUBLISHED-TTL:PT1H
BEGIN:VTIMEZONE
TZID:Europe/Berlin
BEGIN:DAYLIGHT
TZOFFSETFROM:+0100
TZOFFSETTO:+0200
TZNAME:CEST
DTSTART:20230326T010000
END:DAYLIGHT
BEGIN:STANDARD
TZOFFSETFROM:+0200
TZOFFSETTO:+0100
TZNAME:CET
DTSTART:20231029T010000
END:STANDARD
BEGIN:DAYLIGHT
TZOFFSETFROM:+0100
TZOFFSETTO:+0200
TZNAME:CEST
DTSTART:20240331T010000
END:DAYLIGHT
BEGIN:STANDARD
TZOFFSETFROM:+0200
TZOFFSETTO:+0100
TZNAME:CET
DTSTART:20241027T010000
END:STANDARD
BEGIN:DAYLIGHT
TZOFFSETFROM:+0100
TZOFFSETTO:+0200
TZNAME:CEST
DTSTART:20250330T010000
END:DAYLIGHT
BEGIN:STANDARD
TZOFFSETFROM:+0200
TZOFFSETTO:+0100
TZNAME:CET
DTSTART:20251026T010000
END:STANDARD
END:VTIMEZONE
BEGIN:VEVENT
DTSTART;VALUE=DATE:20240921
DTEND;VALUE=DATE:20240922
DTSTAMP:20260425T232240
CREATED:20230131T082436Z
LAST-MODIFIED:20231127T080455Z
UID:6521-1726876800-1726963199@hotel-greive.de
SUMMARY:Expedition into the beer kingdom
DESCRIPTION:“Oktoberfest Special” Bavarian/Franconian beer evening \nExperience an unforgettable evening with our beer sommelier Rainer Diekmann.\n“Beer is proof that God loves us and wants us to be happy. \n– Reservation required – \nFIRST NAME\, LAST NAME *TelefonE-MAIL *Which event: *Please select an eventEaster Sunday lunch buffet\, Sunday\, April 20\, 2025Asparagus season - May 1\, 2025 to June 24\, 2025Mother's Day lunch buffet\, Sunday\, May 11\, 2025Asparagus meets BBQ\, Saturday\, May 31\, 2025Asparagus meets BBQ\, Saturday\, June 07\, 2025Barbecue evening with live music - Gerd Zimmermann\, Saturday\, July 5\, 2025Fair in Haren - barbecue evening with live music\, Saturday\, August 30\, 2025Funfair in Haren - Sunday twilight shopping\, Sunday\, August 31\, 2025Funfair in Haren - Prosecco breakfast\, Monday\, September 1\, 2025Other event  Für wie viele Personen?   *DateI confirm that I have read the privacy policy and agree that my data will be processed as listed in the privacy policy.Your messageSendThank you for your message!×There was a problem sending your message. Please try again later.×
URL:https://hotel-greive.de/en/event/expedition-to-the-beer-kingdom-25-03-23/
LOCATION:Hotel Greive\, Nordstrasse 10\, Haren (Ems)\, Lower Saxony\, 49733\, Deutschland
CATEGORIES:Culinary highlights
ATTACH;FMTTYPE=image/jpeg:https://hotel-greive.de/wp-content/uploads/2023/01/logo_rainer_diekmann-Urlogo-fuer-PR.jpg
ORGANIZER;CN="Hotel Greive":MAILTO:info@hotel-greive.de
END:VEVENT
END:VCALENDAR