BEGIN:VCALENDAR
VERSION:2.0
PRODID:-//Hotel Greive in Haren - ECPv6.15.20//NONSGML v1.0//EN
CALSCALE:GREGORIAN
METHOD:PUBLISH
X-WR-CALNAME:Hotel Greive in Haren
X-ORIGINAL-URL:https://hotel-greive.de/en/
X-WR-CALDESC:Events for Hotel Greive in Haren
REFRESH-INTERVAL;VALUE=DURATION:PT1H
X-Robots-Tag:noindex
X-PUBLISHED-TTL:PT1H
BEGIN:VTIMEZONE
TZID:Europe/Berlin
BEGIN:DAYLIGHT
TZOFFSETFROM:+0100
TZOFFSETTO:+0200
TZNAME:CEST
DTSTART:20240331T010000
END:DAYLIGHT
BEGIN:STANDARD
TZOFFSETFROM:+0200
TZOFFSETTO:+0100
TZNAME:CET
DTSTART:20241027T010000
END:STANDARD
BEGIN:DAYLIGHT
TZOFFSETFROM:+0100
TZOFFSETTO:+0200
TZNAME:CEST
DTSTART:20250330T010000
END:DAYLIGHT
BEGIN:STANDARD
TZOFFSETFROM:+0200
TZOFFSETTO:+0100
TZNAME:CET
DTSTART:20251026T010000
END:STANDARD
BEGIN:DAYLIGHT
TZOFFSETFROM:+0100
TZOFFSETTO:+0200
TZNAME:CEST
DTSTART:20260329T010000
END:DAYLIGHT
BEGIN:STANDARD
TZOFFSETFROM:+0200
TZOFFSETTO:+0100
TZNAME:CET
DTSTART:20261025T010000
END:STANDARD
BEGIN:DAYLIGHT
TZOFFSETFROM:+0100
TZOFFSETTO:+0200
TZNAME:CEST
DTSTART:20270328T010000
END:DAYLIGHT
BEGIN:STANDARD
TZOFFSETFROM:+0200
TZOFFSETTO:+0100
TZNAME:CET
DTSTART:20271031T010000
END:STANDARD
END:VTIMEZONE
BEGIN:VEVENT
DTSTART;VALUE=DATE:20251118
DTEND;VALUE=DATE:20260315
DTSTAMP:20260423T000311
CREATED:20231127T080623Z
LAST-MODIFIED:20251209T154058Z
UID:8173-1763424000-1773532799@hotel-greive.de
SUMMARY:HAREN celebrates "It's party time"
DESCRIPTION:Party hard! \nDJ Frank Krummen / photo box / welcome drink / candy bar / food stations / cocktail bar \nReservation required / tickets available from us\n1 free drink on presentation of ticket\nAdmission 19:00 hrs \nFIRST NAME\, LAST NAME *TelefonE-MAIL *Which event: *Please select an eventEaster Sunday lunch buffet\, Sunday\, April 20\, 2025Asparagus season - May 1\, 2025 to June 24\, 2025Mother's Day lunch buffet\, Sunday\, May 11\, 2025Asparagus meets BBQ\, Saturday\, May 31\, 2025Asparagus meets BBQ\, Saturday\, June 07\, 2025Barbecue evening with live music - Gerd Zimmermann\, Saturday\, July 5\, 2025Fair in Haren - barbecue evening with live music\, Saturday\, August 30\, 2025Funfair in Haren - Sunday twilight shopping\, Sunday\, August 31\, 2025Funfair in Haren - Prosecco breakfast\, Monday\, September 1\, 2025Other event  Für wie viele Personen?   *DateI confirm that I have read the privacy policy and agree that my data will be processed as listed in the privacy policy.Your messageSendThank you for your message!×There was a problem sending your message. Please try again later.×40cd750bba9870f18aada2478b24840a40cd750bba9870f18aada2478b24840a
URL:https://hotel-greive.de/en/event/ladies-night/
LOCATION:Hotel Greive\, Nordstrasse 10\, Haren (Ems)\, Lower Saxony\, 49733\, Deutschland
CATEGORIES:Culinary highlights,Currently
ORGANIZER;CN="Hotel Greive":MAILTO:info@hotel-greive.de
END:VEVENT
BEGIN:VEVENT
DTSTART;TZID=Europe/Berlin:20251118T190000
DTEND;TZID=Europe/Berlin:20260221T220000
DTSTAMP:20260423T000311
CREATED:20240909T133350Z
LAST-MODIFIED:20251118T172202Z
UID:9212-1763492400-1771711200@hotel-greive.de
SUMMARY:Rum tasting
DESCRIPTION:Rum tasting\nwith Klaus Wojtun \nIn addition to interesting facts\, the focus will be on tasting different types of rum and a coordinated menu. \nStart: 19:00\nPrice: 69\,- € \n– Reservation required – \nFIRST NAME\, LAST NAME *TelefonE-MAIL *Which event: *Please select an eventEaster Sunday lunch buffet\, Sunday\, April 20\, 2025Asparagus season - May 1\, 2025 to June 24\, 2025Mother's Day lunch buffet\, Sunday\, May 11\, 2025Asparagus meets BBQ\, Saturday\, May 31\, 2025Asparagus meets BBQ\, Saturday\, June 07\, 2025Barbecue evening with live music - Gerd Zimmermann\, Saturday\, July 5\, 2025Fair in Haren - barbecue evening with live music\, Saturday\, August 30\, 2025Funfair in Haren - Sunday twilight shopping\, Sunday\, August 31\, 2025Funfair in Haren - Prosecco breakfast\, Monday\, September 1\, 2025Other event  Für wie viele Personen?   *DateI confirm that I have read the privacy policy and agree that my data will be processed as listed in the privacy policy.Your messageSendThank you for your message!×There was a problem sending your message. Please try again later.×40cd750bba9870f18aada2478b24840a40cd750bba9870f18aada2478b24840a
URL:https://hotel-greive.de/en/event/whisky-tasting/
LOCATION:Hotel Greive\, Nordstrasse 10\, Haren (Ems)\, Lower Saxony\, 49733\, Deutschland
CATEGORIES:Culinary highlights
ORGANIZER;CN="Hotel Greive":MAILTO:info@hotel-greive.de
END:VEVENT
BEGIN:VEVENT
DTSTART;VALUE=DATE:20260214
DTEND;VALUE=DATE:20260215
DTSTAMP:20260423T000311
CREATED:20211110T144759Z
LAST-MODIFIED:20260212T140138Z
UID:2870-1771027200-1771113599@hotel-greive.de
SUMMARY:Valentine's day
DESCRIPTION:The way to a man’s heart goes through his stomach! Reserve your favorite spot in good time! \nWe will sweeten your evening\, with a small dessert for free with every main course. \n– Please register – \nFIRST NAME\, LAST NAME *TelefonE-MAIL *Which event: *Please select an eventEaster Sunday lunch buffet\, Sunday\, April 20\, 2025Asparagus season - May 1\, 2025 to June 24\, 2025Mother's Day lunch buffet\, Sunday\, May 11\, 2025Asparagus meets BBQ\, Saturday\, May 31\, 2025Asparagus meets BBQ\, Saturday\, June 07\, 2025Barbecue evening with live music - Gerd Zimmermann\, Saturday\, July 5\, 2025Fair in Haren - barbecue evening with live music\, Saturday\, August 30\, 2025Funfair in Haren - Sunday twilight shopping\, Sunday\, August 31\, 2025Funfair in Haren - Prosecco breakfast\, Monday\, September 1\, 2025Other event  Für wie viele Personen?   *DateI confirm that I have read the privacy policy and agree that my data will be processed as listed in the privacy policy.Your messageSendThank you for your message!×There was a problem sending your message. Please try again later.×40cd750bba9870f18aada2478b24840a40cd750bba9870f18aada2478b24840a
URL:https://hotel-greive.de/en/event/valentines-day/
LOCATION:Hotel Greive\, Nordstrasse 10\, Haren (Ems)\, Lower Saxony\, 49733\, Deutschland
CATEGORIES:Culinary highlights,Currently
ATTACH;FMTTYPE=image/jpeg:https://hotel-greive.de/wp-content/uploads/2021/10/valentines-day-festive-table-setting-VH3DGSP-scaled.jpg
ORGANIZER;CN="Hotel Greive":MAILTO:info@hotel-greive.de
END:VEVENT
BEGIN:VEVENT
DTSTART;VALUE=DATE:20260405
DTEND;VALUE=DATE:20260406
DTSTAMP:20260423T000311
CREATED:20211110T144757Z
LAST-MODIFIED:20260212T135545Z
UID:2832-1775347200-1775433599@hotel-greive.de
SUMMARY:Easter Sunday lunch buffet
DESCRIPTION:At noon on 05.04.26 we offer a lunch buffet for young and old. \nLook forward to delicious spring specialties. \nIn the evening we are open from 6 pm. \n– Please register – \nFIRST NAME\, LAST NAME *TelefonE-MAIL *Which event: *Please select an eventEaster Sunday lunch buffet\, Sunday\, April 20\, 2025Asparagus season - May 1\, 2025 to June 24\, 2025Mother's Day lunch buffet\, Sunday\, May 11\, 2025Asparagus meets BBQ\, Saturday\, May 31\, 2025Asparagus meets BBQ\, Saturday\, June 07\, 2025Barbecue evening with live music - Gerd Zimmermann\, Saturday\, July 5\, 2025Fair in Haren - barbecue evening with live music\, Saturday\, August 30\, 2025Funfair in Haren - Sunday twilight shopping\, Sunday\, August 31\, 2025Funfair in Haren - Prosecco breakfast\, Monday\, September 1\, 2025Other event  Für wie viele Personen?   *DateI confirm that I have read the privacy policy and agree that my data will be processed as listed in the privacy policy.Your messageSendThank you for your message!×There was a problem sending your message. Please try again later.×40cd750bba9870f18aada2478b24840a40cd750bba9870f18aada2478b24840a
URL:https://hotel-greive.de/en/event/easter-sunday-lunch-buffet/
LOCATION:Hotel Greive\, Nordstrasse 10\, Haren (Ems)\, Lower Saxony\, 49733\, Deutschland
CATEGORIES:Culinary highlights
ATTACH;FMTTYPE=image/jpeg:https://hotel-greive.de/wp-content/uploads/2021/10/AdobeStock_104667675-scaled.jpeg
ORGANIZER;CN="Hotel Greive":MAILTO:info@hotel-greive.de
END:VEVENT
BEGIN:VEVENT
DTSTART;VALUE=DATE:20260501
DTEND;VALUE=DATE:20260625
DTSTAMP:20260423T000312
CREATED:20211110T144801Z
LAST-MODIFIED:20260212T140512Z
UID:2912-1777593600-1782345599@hotel-greive.de
SUMMARY:Spring is asparagus time
DESCRIPTION:Whether as a dish or menu – look forward to daily fresh Harener asparagus – also possible to eat full! \n!!! The exact start date will be announced in good time. !!! \n– Please register – \nFIRST NAME\, LAST NAME *TelefonE-MAIL *Which event: *Please select an eventEaster Sunday lunch buffet\, Sunday\, April 20\, 2025Asparagus season - May 1\, 2025 to June 24\, 2025Mother's Day lunch buffet\, Sunday\, May 11\, 2025Asparagus meets BBQ\, Saturday\, May 31\, 2025Asparagus meets BBQ\, Saturday\, June 07\, 2025Barbecue evening with live music - Gerd Zimmermann\, Saturday\, July 5\, 2025Fair in Haren - barbecue evening with live music\, Saturday\, August 30\, 2025Funfair in Haren - Sunday twilight shopping\, Sunday\, August 31\, 2025Funfair in Haren - Prosecco breakfast\, Monday\, September 1\, 2025Other event  Für wie viele Personen?   *DateI confirm that I have read the privacy policy and agree that my data will be processed as listed in the privacy policy.Your messageSendThank you for your message!×There was a problem sending your message. Please try again later.×40cd750bba9870f18aada2478b24840a40cd750bba9870f18aada2478b24840a
URL:https://hotel-greive.de/en/event/spring-is-asparagus-time/
LOCATION:Hotel Greive\, Nordstrasse 10\, Haren (Ems)\, Lower Saxony\, 49733\, Deutschland
CATEGORIES:Culinary highlights
ATTACH;FMTTYPE=image/jpeg:https://hotel-greive.de/wp-content/uploads/2021/10/AdobeStock_53335270-scaled.jpeg
ORGANIZER;CN="Hotel Greive":MAILTO:info@hotel-greive.de
END:VEVENT
BEGIN:VEVENT
DTSTART;VALUE=DATE:20260510
DTEND;VALUE=DATE:20260511
DTSTAMP:20260423T000312
CREATED:20211110T144801Z
LAST-MODIFIED:20260212T135748Z
UID:2913-1778371200-1778457599@hotel-greive.de
SUMMARY:Mother's Day
DESCRIPTION:Mother’s Day lunch buffet on May 10\, 2026\nEnjoy various spring specialties\, asparagus variations\, etc.\nMother’s Day evening\nWe are open for you from 18.00 hrs.\nÀ la carte \n– Please register – \nFIRST NAME\, LAST NAME *TelefonE-MAIL *Which event: *Please select an eventEaster Sunday lunch buffet\, Sunday\, April 20\, 2025Asparagus season - May 1\, 2025 to June 24\, 2025Mother's Day lunch buffet\, Sunday\, May 11\, 2025Asparagus meets BBQ\, Saturday\, May 31\, 2025Asparagus meets BBQ\, Saturday\, June 07\, 2025Barbecue evening with live music - Gerd Zimmermann\, Saturday\, July 5\, 2025Fair in Haren - barbecue evening with live music\, Saturday\, August 30\, 2025Funfair in Haren - Sunday twilight shopping\, Sunday\, August 31\, 2025Funfair in Haren - Prosecco breakfast\, Monday\, September 1\, 2025Other event  Für wie viele Personen?   *DateI confirm that I have read the privacy policy and agree that my data will be processed as listed in the privacy policy.Your messageSendThank you for your message!×There was a problem sending your message. Please try again later.×40cd750bba9870f18aada2478b24840a40cd750bba9870f18aada2478b24840a
URL:https://hotel-greive.de/en/event/mothers-day/
LOCATION:Hotel Greive\, Nordstrasse 10\, Haren (Ems)\, Lower Saxony\, 49733\, Deutschland
CATEGORIES:Culinary highlights
ATTACH;FMTTYPE=image/jpeg:https://hotel-greive.de/wp-content/uploads/2021/10/AdobeStock_41037282-scaled.jpeg
ORGANIZER;CN="Hotel Greive":MAILTO:info@hotel-greive.de
END:VEVENT
END:VCALENDAR